BEGIN:VCALENDAR
VERSION:2.0
PRODID:-//wp-events-plugin.com//7.2.3.1//EN
TZID:Europe/Berlin
X-WR-TIMEZONE:Europe/Berlin
BEGIN:VEVENT
UID:326@pulsleipzig.de
DTSTART;TZID=Europe/Berlin:20240127T120000
DTEND;TZID=Europe/Berlin:20240127T140000
DTSTAMP:20240124T150956Z
URL:https://pulsleipzig.de/events/rb-frauen-sc-freiburg/
SUMMARY:RB Frauen - SC Freiburg
DESCRIPTION:Samstag Mittag um 12:00 Uhr spielen die RB Frauen zu Hause in d
 er RBL-Fußball-Akademie gegen den SC Freiburg. Die Mädels kämpfen ums 
 Überleben in ihrer ersten Saison in der 1. Bundesliga und benötigen dahe
 r jede Unterstützung\, die sie bekommen können. Es erwartet euch Girl Po
 wer\, hohe Intensität und Kampfgeist.
ATTACH;FMTTYPE=image/jpeg:https://pulsleipzig.de/wp-content/uploads/2023/0
 8/RB-Leipzig-Red-Bull-Arena-Rassen.jpg
CATEGORIES:Sport
END:VEVENT
BEGIN:VTIMEZONE
TZID:Europe/Berlin
X-LIC-LOCATION:Europe/Berlin
BEGIN:STANDARD
DTSTART:20231029T020000
TZOFFSETFROM:+0200
TZOFFSETTO:+0100
TZNAME:CET
END:STANDARD
END:VTIMEZONE
END:VCALENDAR