BEGIN:VCALENDAR
VERSION:2.0
PRODID:-//wp-events-plugin.com//7.2.3.1//EN
TZID:Europe/Berlin
X-WR-TIMEZONE:Europe/Berlin
BEGIN:VEVENT
UID:4226@pulsleipzig.de
DTSTART;TZID=Europe/Berlin:20250308T140000
DTEND;TZID=Europe/Berlin:20250308T160000
DTSTAMP:20250227T080630Z
URL:https://pulsleipzig.de/events/rb-frauen-wolfsburg-rbl-gelaende/
SUMMARY:RB Frauen - Wolfsburg: RBL-Gelände
DESCRIPTION:Der RB Leipzig trifft auf die Titelaspirantinnen des VfL Wolfsb
 urg. Sichert euch jetzt eure Tickets für dieses spannende Topspiel der Fr
 auen-Bundesliga und freut euch auf einen großartigen Fußball-Nachmittag.
 \n\nHier erfahrt ihr mehr.
ATTACH;FMTTYPE=image/jpeg:https://pulsleipzig.de/wp-content/uploads/2023/0
 8/RB-Leipzig-Red-Bull-Arena-Rassen.jpg
CATEGORIES:Sport
END:VEVENT
BEGIN:VTIMEZONE
TZID:Europe/Berlin
X-LIC-LOCATION:Europe/Berlin
BEGIN:STANDARD
DTSTART:20241027T020000
TZOFFSETFROM:+0200
TZOFFSETTO:+0100
TZNAME:CET
END:STANDARD
END:VTIMEZONE
END:VCALENDAR