BEGIN:VCALENDAR
VERSION:2.0
PRODID:-//wp-events-plugin.com//7.2.3.1//EN
TZID:Europe/Berlin
X-WR-TIMEZONE:Europe/Berlin
BEGIN:VEVENT
UID:8860@pulsleipzig.de
DTSTART;TZID=Europe/Berlin:20260305T193000
DTEND;TZID=Europe/Berlin:20260305T213000
DTSTAMP:20260227T142905Z
URL:https://pulsleipzig.de/events/romano-ut-connewitz/
SUMMARY:Romano: UT Connewitz
DESCRIPTION:Romano bringt seinen unverwechselbaren Stil ins UT Connewitz. Z
 wischen Rap\, Humor und markanter Bühnenfigur entsteht ein energiegeladen
 es Konzert. Seine Shows sind laut\, direkt und unterhaltsam. Ein Abend mit
  klarer Attitüde und starkem Sound.\n\nHier erfahrt ihr mehr
ATTACH;FMTTYPE=image/jpeg:https://pulsleipzig.de/wp-content/uploads/2023/0
 3/UT-Connewitz-Bar.jpg
CATEGORIES:Musik
END:VEVENT
BEGIN:VTIMEZONE
TZID:Europe/Berlin
X-LIC-LOCATION:Europe/Berlin
BEGIN:STANDARD
DTSTART:20251026T020000
TZOFFSETFROM:+0200
TZOFFSETTO:+0100
TZNAME:CET
END:STANDARD
END:VTIMEZONE
END:VCALENDAR