BEGIN:VCALENDAR
VERSION:2.0
PRODID:-//wp-events-plugin.com//7.2.3.1//EN
TZID:Europe/Berlin
X-WR-TIMEZONE:Europe/Berlin
BEGIN:VEVENT
UID:1988@pulsleipzig.de
DTSTART;TZID=Europe/Berlin:20241006T120000
DTEND;TZID=Europe/Berlin:20241006T180000
DTSTAMP:20241003T071212Z
URL:https://pulsleipzig.de/events/saisonfinale-2024-familienrenntag/
SUMMARY:Saisonfinale 2024: Familienrenntag
DESCRIPTION:\n\nIm goldenen Oktober feiert das Scheibenholz traditionell se
 inen Saisonausklang.\n\nSieben Galopprennen sorgen noch einmal für Spannu
 ng\, Wettfieber und Nervenkitzel\, wenn die Pferde vor der jubelnden Zusch
 auertribüne die Zielgerade entlang galoppieren. Wer wird Leipzigs schnell
 stes Maskottchen 2024? Rund 20 plüschige Glücksbringer Leipziger Unterne
 hmen und Vereine messen sich erneut im sportlichen Wettkampf um die begehr
 te Maskottchen-Krone und sorgen für beste Unterhaltung! Auf die kleinen G
 äste wartet das große Kinderland mit Ponyreiten und zahlreichen Spiel- u
 nd Mitmachaktionen.\n\nHier erfährst du mehr.\n\n\n
ATTACH;FMTTYPE=image/jpeg:https://pulsleipzig.de/wp-content/uploads/2023/0
 9/Scheibenholz-Pferderennen-Frank-Sorge.jpg
CATEGORIES:Sport
END:VEVENT
BEGIN:VTIMEZONE
TZID:Europe/Berlin
X-LIC-LOCATION:Europe/Berlin
BEGIN:DAYLIGHT
DTSTART:20240331T030000
TZOFFSETFROM:+0100
TZOFFSETTO:+0200
TZNAME:CEST
END:DAYLIGHT
END:VTIMEZONE
END:VCALENDAR