BEGIN:VCALENDAR
VERSION:2.0
PRODID:-//wp-events-plugin.com//7.2.3.1//EN
TZID:Europe/Berlin
X-WR-TIMEZONE:Europe/Berlin
BEGIN:VEVENT
UID:8889@pulsleipzig.de
DTSTART;TZID=Europe/Berlin:20260328T193000
DTEND;TZID=Europe/Berlin:20260328T213000
DTSTAMP:20260302T065548Z
URL:https://pulsleipzig.de/events/samy-deluxe-mikis-takeover-gewandhaus/
SUMMARY:Samy Deluxe & Mikis Takeover: Gewandhaus
DESCRIPTION:Deutschrap trifft Orchesterklang: Samy Deluxe bringt gemeinsam 
 mit Mikis Takeover Hip-Hop in das Gewandhaus Leipzig. Klassische Arrangeme
 nts verschmelzen mit Rap\, Beats und starken Lyrics zu einem besonderen Cr
 ossover-Konzert. Ein außergewöhnlicher Abend zwischen Urban Sound und Ko
 nzertsaal.\n\nHier erfahrt ihr mehr
ATTACH;FMTTYPE=image/jpeg:https://pulsleipzig.de/wp-content/uploads/2023/0
 3/Gewandhaus-Abend-Springbronnen.jpg
CATEGORIES:Musik
END:VEVENT
BEGIN:VTIMEZONE
TZID:Europe/Berlin
X-LIC-LOCATION:Europe/Berlin
BEGIN:STANDARD
DTSTART:20251026T020000
TZOFFSETFROM:+0200
TZOFFSETTO:+0100
TZNAME:CET
END:STANDARD
END:VTIMEZONE
END:VCALENDAR