BEGIN:VCALENDAR
VERSION:2.0
PRODID:-//wp-events-plugin.com//7.2.3.1//EN
TZID:Europe/Berlin
X-WR-TIMEZONE:Europe/Berlin
BEGIN:VEVENT
UID:9419@pulsleipzig.de
DTSTART;TZID=Europe/Berlin:20260419T100000
DTEND;TZID=Europe/Berlin:20260419T210000
DTSTAMP:20260414T154042Z
URL:https://pulsleipzig.de/events/schmuck-aus-polymer-clay-flamingocat/
SUMMARY:Schmuck aus Polymer Clay: Flamingocat
DESCRIPTION:Im Kreativstudio Flamingocat Leipzig gibt es die zweite Chance 
 für alle DIY-Fans. Gestalte individuellen Schmuck aus Polymer Clay und le
 rne Techniken für Farben\, Formen und Muster.\n Hier entstehen Ohrringe\,
  Anhänger und Accessoires ganz nach deinem Stil.\n Perfekt für kreative 
 Auszeiten und handgemachte Lieblingsstücke.\n Der Workshop eignet sich f
 ür Anfänger:innen und Fortgeschrittene.\n Ein inspirierender Tag voller 
 Kreativität.\n\nHier erfahrt ihr mehr.
ATTACH;FMTTYPE=image/jpeg:https://pulsleipzig.de/wp-content/uploads/2026/0
 4/Schmuck-Workshop-Flamingocat.jpg
CATEGORIES:Freizeit,Kunst &amp; Kreatives
LOCATION:https://maps.app.goo.gl/9V5ExekpyujpikTj6
END:VEVENT
BEGIN:VTIMEZONE
TZID:Europe/Berlin
X-LIC-LOCATION:Europe/Berlin
BEGIN:DAYLIGHT
DTSTART:20260329T030000
TZOFFSETFROM:+0100
TZOFFSETTO:+0200
TZNAME:CEST
END:DAYLIGHT
END:VTIMEZONE
END:VCALENDAR