BEGIN:VCALENDAR
VERSION:2.0
PRODID:-//wp-events-plugin.com//7.2.3.1//EN
TZID:Europe/Berlin
X-WR-TIMEZONE:Europe/Berlin
BEGIN:VEVENT
UID:4422@pulsleipzig.de
DTSTART;TZID=Europe/Berlin:20250322T190000
DTEND;TZID=Europe/Berlin:20250322T210000
DTSTAMP:20250313T124023Z
URL:https://pulsleipzig.de/events/skuppin-supp-okayalex-neues-schauspiel/
SUMMARY:SKUPPIN supp. OKAYALEX: Neues Schauspiel
DESCRIPTION:Taucht ein in eine Klangreise\, inspiriert vom Synth-Pop der 80
 er\, live auf der "Panik Tour 2025"! SKUPPIN\, unterstützt von OKAYALEX\,
  entführt Euch in eine Welt aus treibenden Beats\, düsteren Atmosphären
  und nostalgischen Klängen à la Depeche Mode und Kraftwerk.\n\nHier erfa
 hrt ihr mehr.
ATTACH;FMTTYPE=image/jpeg:https://pulsleipzig.de/wp-content/uploads/2021/1
 1/Neues-Schauspiel-scaled-e1636454074992.jpg
CATEGORIES:Musik
END:VEVENT
BEGIN:VTIMEZONE
TZID:Europe/Berlin
X-LIC-LOCATION:Europe/Berlin
BEGIN:STANDARD
DTSTART:20241027T020000
TZOFFSETFROM:+0200
TZOFFSETTO:+0100
TZNAME:CET
END:STANDARD
END:VTIMEZONE
END:VCALENDAR