BEGIN:VCALENDAR
VERSION:2.0
PRODID:-//wp-events-plugin.com//7.2.3.1//EN
TZID:Europe/Berlin
X-WR-TIMEZONE:Europe/Berlin
BEGIN:VEVENT
UID:652@pulsleipzig.de
DTSTART;TZID=Europe/Berlin:20240412T213000
DTEND;TZID=Europe/Berlin:20240412T235900
DTSTAMP:20240410T115914Z
URL:https://pulsleipzig.de/events/soundclash-vol-5-pres-by-omad/
SUMMARY:SOUNDCLASH Vol 5 - pres. by OMAD
DESCRIPTION:Eine Open Stage für echte HipHop Heads. Zum Soundclash bringen
  verschiedene Künstler*innen fünf selbst geschriebene oder produzierte S
 ongs mit und ihr könnt entscheiden\, wer am Ende weiterkommt. Der oder di
 e Gewinner*in bekommt dann beim Flowmarkt einen Showcase\, es geht also wi
 rklich um was. Es wird definitiv ein cooler Abend mit einer Menge potentie
 ller Newcomern.\n\nHier erfährst du mehr.
ATTACH;FMTTYPE=image/jpeg:https://pulsleipzig.de/wp-content/uploads/2022/0
 9/Ilses-Erika-Freisitz.jpg
CATEGORIES:Musik
END:VEVENT
BEGIN:VTIMEZONE
TZID:Europe/Berlin
X-LIC-LOCATION:Europe/Berlin
BEGIN:DAYLIGHT
DTSTART:20240331T030000
TZOFFSETFROM:+0100
TZOFFSETTO:+0200
TZNAME:CEST
END:DAYLIGHT
END:VTIMEZONE
END:VCALENDAR