BEGIN:VCALENDAR
VERSION:2.0
PRODID:-//wp-events-plugin.com//7.2.3.1//EN
TZID:Europe/Berlin
X-WR-TIMEZONE:Europe/Berlin
BEGIN:VEVENT
UID:4727@pulsleipzig.de
DTSTART;TZID=Europe/Berlin:20250412T160000
DTEND;TZID=Europe/Berlin:20250412T180000
DTSTAMP:20250409T111953Z
URL:https://pulsleipzig.de/events/spielwiese-werk-2/
SUMMARY:Spielwiese: Werk 2
DESCRIPTION:​Spielwiese – Treffen für Spielbegeisterte im WERK 2 lädt
  euch ein\, gemeinsam neue Brettspiele zu entdecken und auszuprobieren. Eg
 al ob Anfänger oder Profi\, Viel- oder Wenigspieler – hier steht der Sp
 aß am Spiel und die Begegnung im Vordergrund. Unter dem Motto "Scrabble-A
 larm" könnt ihr eure Wortgewandtheit testen und in geselliger Runde neue 
 Bekanntschaften schließen.\n\nHier erfahrt ihr mehr.
ATTACH;FMTTYPE=image/jpeg:https://pulsleipzig.de/wp-content/uploads/2024/1
 0/Werk-2.jpg
CATEGORIES:Freizeit
END:VEVENT
BEGIN:VTIMEZONE
TZID:Europe/Berlin
X-LIC-LOCATION:Europe/Berlin
BEGIN:DAYLIGHT
DTSTART:20250330T030000
TZOFFSETFROM:+0100
TZOFFSETTO:+0200
TZNAME:CEST
END:DAYLIGHT
END:VTIMEZONE
END:VCALENDAR