BEGIN:VCALENDAR
VERSION:2.0
PRODID:-//wp-events-plugin.com//7.2.3.1//EN
TZID:Europe/Berlin
X-WR-TIMEZONE:Europe/Berlin
BEGIN:VEVENT
UID:8979@pulsleipzig.de
DTSTART;TZID=Europe/Berlin:20260310T193000
DTEND;TZID=Europe/Berlin:20260310T213000
DTSTAMP:20260303T203810Z
URL:https://pulsleipzig.de/events/spirited-away-other-masterpieces-from-st
 udio-ghibli-gewandhaus/
SUMMARY:Spirited Away & Other Masterpieces from Studio Ghibli: Gewandhaus
DESCRIPTION:Mit »Spirited Away &amp\; other Masterpieces from Studio Ghibl
 i« widmet sich das Vivalis Project der ikonischen Musik aus den Animation
 sfilmen von Hayao Miyazaki und Studio Ghibli. Im Mendelssohn-Saal entfalte
 n Klavier\, Violine\, Violoncello und Schlagwerk den feinen Kammerklang vo
 n Soundtracks aus unter anderem »Chihiros Reise ins Zauberland«\, »Mein
  Nachbar Totoro«\, »Prinzessin Mononoke«\, »Das wandelnde Schloss« un
 d »Kikis kleiner Lieferservice«. So entsteht ein Abend voller Wunder und
  Nostalgie\, der Film- und Musikliebhaber*innen gleichermaßen einlädt\, 
 vertraute Melodien neu zu entdecken und die emotionalen Welten von Studio 
 Ghibli in einem konzentrierten Konzertformat zu erleben.\n\nHier erfahrt i
 hr mehr
ATTACH;FMTTYPE=image/jpeg:https://pulsleipzig.de/wp-content/uploads/2026/0
 3/Spirited-Away-Other-Masterpieces-from-Studio-Ghibli.jpg
CATEGORIES:Musik
END:VEVENT
BEGIN:VTIMEZONE
TZID:Europe/Berlin
X-LIC-LOCATION:Europe/Berlin
BEGIN:STANDARD
DTSTART:20251026T020000
TZOFFSETFROM:+0200
TZOFFSETTO:+0100
TZNAME:CET
END:STANDARD
END:VTIMEZONE
END:VCALENDAR