BEGIN:VCALENDAR
VERSION:2.0
PRODID:-//wp-events-plugin.com//7.2.3.1//EN
TZID:Europe/Berlin
X-WR-TIMEZONE:Europe/Berlin
BEGIN:VEVENT
UID:8742@pulsleipzig.de
DTSTART;TZID=Europe/Berlin:20260214T173000
DTEND;TZID=Europe/Berlin:20260214T233000
DTSTAMP:20260211T133124Z
URL:https://pulsleipzig.de/events/tapas-paint-innside-by-melia/
SUMMARY:Tapas & Paint INNSIDE by Meliá
DESCRIPTION:Kreativität trifft Kulinarik: Beim Tapas &amp\; Paint im INNSI
 DE by Meliá verbindet ihr Kunst\, Genuss und entspannte Atmosphäre. Wäh
 rend ihr malt\, genießt ihr feine Tapas und Drinks in stylischem Ambiente
 . Egal ob Anfängerin oder Hobbykünstlerin – hier steht der Spaß am Au
 sprobieren im Mittelpunkt. Perfekt für Dates\, Freund*innen oder einen in
 spirierenden Abend. Ein Event für alle\, die Kunst und Geschmack lieben.
ATTACH;FMTTYPE=image/jpeg:https://pulsleipzig.de/wp-content/uploads/2025/1
 2/Bar-Cabana.png
CATEGORIES:Freizeit
END:VEVENT
BEGIN:VTIMEZONE
TZID:Europe/Berlin
X-LIC-LOCATION:Europe/Berlin
BEGIN:STANDARD
DTSTART:20251026T020000
TZOFFSETFROM:+0200
TZOFFSETTO:+0100
TZNAME:CET
END:STANDARD
END:VTIMEZONE
END:VCALENDAR