BEGIN:VCALENDAR
VERSION:2.0
PRODID:-//wp-events-plugin.com//7.2.3.1//EN
TZID:Europe/Berlin
X-WR-TIMEZONE:Europe/Berlin
BEGIN:VEVENT
UID:3343@pulsleipzig.de
DTSTART;TZID=Europe/Berlin:20250121T200000
DTEND;TZID=Europe/Berlin:20250121T220000
DTSTAMP:20250107T101227Z
URL:https://pulsleipzig.de/events/ti-amo-die-live-dating-show-ilses-erika/
SUMMARY:Ti Amo - Die Live Dating Show: Ilses Erika
DESCRIPTION:Ein neues Showformat in der Ilse. Noch steht das Konzept ein we
 nig in den Sternen\, aber eins ist sicher\, Einsamkeit wird ab heute ein F
 remdwort sein. Interessierte Kandidat:innen melden sich bitte direkt via M
 ail: gudrun@ilseserika.de.\n\nHier erfährst du mehr.
ATTACH;FMTTYPE=image/jpeg:https://pulsleipzig.de/wp-content/uploads/2022/0
 9/Ilses-Erika-Bar.jpg
CATEGORIES:Freizeit
END:VEVENT
BEGIN:VTIMEZONE
TZID:Europe/Berlin
X-LIC-LOCATION:Europe/Berlin
BEGIN:STANDARD
DTSTART:20241027T020000
TZOFFSETFROM:+0200
TZOFFSETTO:+0100
TZNAME:CET
END:STANDARD
END:VTIMEZONE
END:VCALENDAR