BEGIN:VCALENDAR
VERSION:2.0
PRODID:-//wp-events-plugin.com//7.2.3.1//EN
TZID:Europe/Berlin
X-WR-TIMEZONE:Europe/Berlin
BEGIN:VEVENT
UID:4752@pulsleipzig.de
DTSTART;TZID=Europe/Berlin:20250427T180000
DTEND;TZID=Europe/Berlin:20250427T210000
DTSTAMP:20250409T140533Z
URL:https://pulsleipzig.de/events/troedelmarkt-fuer-gartenfreude-budde-hau
 s/
SUMMARY:Trödelmarkt für Gartenfreude: Budde-Haus
DESCRIPTION:Bei freiem Eintritt können hier Bürger:innen über aktuelle g
 esellschaftliche Themen diskutieren. Sie selber sagen: “Wenn sich Bürge
 r mit ihren verschiedenen Erfahrungen\, Haltungen und Ideen zusammentun\, 
 kann das anstrengend werden. Echte Demokratie bedeutet\, einander zuzuhör
 en\, erst recht\, wenn man anderer Meinung ist.” \n\nHier erfährst du 
 mehr.
ATTACH;FMTTYPE=image/jpeg:https://pulsleipzig.de/wp-content/uploads/2023/0
 2/Budde-Haus.jpg
CATEGORIES:Freizeit
END:VEVENT
BEGIN:VTIMEZONE
TZID:Europe/Berlin
X-LIC-LOCATION:Europe/Berlin
BEGIN:DAYLIGHT
DTSTART:20250330T030000
TZOFFSETFROM:+0100
TZOFFSETTO:+0200
TZNAME:CEST
END:DAYLIGHT
END:VTIMEZONE
END:VCALENDAR