BEGIN:VCALENDAR
VERSION:2.0
PRODID:-//wp-events-plugin.com//7.2.3.1//EN
TZID:Europe/Berlin
X-WR-TIMEZONE:Europe/Berlin
BEGIN:VEVENT
UID:1975@pulsleipzig.de
DTSTART;TZID=Europe/Berlin:20241006T200000
DTEND;TZID=Europe/Berlin:20241006T220000
DTSTAMP:20241001T175415Z
URL:https://pulsleipzig.de/events/trophy-eyes-naumanns-tanzlokal/
SUMMARY:Trophy Eyes: Naumanns Tanzlokal
DESCRIPTION:Trophy Eyes sind mit ihren Punk- und Hardcore Wurzeln eine der 
 aufstrebendsten jungen Künstler des Rocks. Dabei geht es auf ihren Konzer
 ten immer mehr als gut ab\, packt also lieber ein paar Wechselsachen ein.\
 n\nHier erfährst du mehr.
ATTACH;FMTTYPE=image/jpeg:https://pulsleipzig.de/wp-content/uploads/2023/0
 3/Felsenkeller.jpg
CATEGORIES:Musik
END:VEVENT
BEGIN:VTIMEZONE
TZID:Europe/Berlin
X-LIC-LOCATION:Europe/Berlin
BEGIN:DAYLIGHT
DTSTART:20240331T030000
TZOFFSETFROM:+0100
TZOFFSETTO:+0200
TZNAME:CEST
END:DAYLIGHT
END:VTIMEZONE
END:VCALENDAR