BEGIN:VCALENDAR
VERSION:2.0
PRODID:-//wp-events-plugin.com//7.2.3.1//EN
TZID:Europe/Berlin
X-WR-TIMEZONE:Europe/Berlin
BEGIN:VEVENT
UID:9385@pulsleipzig.de
DTSTART;TZID=Europe/Berlin:20260416T160000
DTEND;TZID=Europe/Berlin:20260416T190000
DTSTAMP:20260411T070029Z
URL:https://pulsleipzig.de/events/veganer-kaffeklatsch-nosch/
SUMMARY:Veganer Kaffeklatsch: Nosch
DESCRIPTION:Beim veganen Kaffeeklatsch im Nosch stehen Kaffee\, Kuchen und 
 Austausch im Mittelpunkt. Perfekt für alle\, die vegane Backkunst entdeck
 en oder einfach gemütlich Zeit mit Freund:innen verbringen möchten. Übr
 igens sind alle Menschen willkommen\, egal\, welche Ernährungsgewohnheite
 n sie sonst\n\nhaben. \n\n📅 16. April 2026 \n\n📍 Nosch
ATTACH;FMTTYPE=image/jpeg:https://pulsleipzig.de/wp-content/uploads/2026/0
 4/Nosch-Cafe-Bar.webp
CATEGORIES:Freizeit
LOCATION:https://maps.app.goo.gl/QQFrCzjqDTeFbrES8
END:VEVENT
BEGIN:VTIMEZONE
TZID:Europe/Berlin
X-LIC-LOCATION:Europe/Berlin
BEGIN:DAYLIGHT
DTSTART:20260329T030000
TZOFFSETFROM:+0100
TZOFFSETTO:+0200
TZNAME:CEST
END:DAYLIGHT
END:VTIMEZONE
END:VCALENDAR