BEGIN:VCALENDAR
VERSION:2.0
PRODID:-//wp-events-plugin.com//7.2.3.1//EN
TZID:Europe/Berlin
X-WR-TIMEZONE:Europe/Berlin
BEGIN:VEVENT
UID:9444@pulsleipzig.de
DTSTART;TZID=Europe/Berlin:20260423T163000
DTEND;TZID=Europe/Berlin:20260423T183000
DTSTAMP:20260418T114927Z
URL:https://pulsleipzig.de/events/wilde-naturkosmetik-manufaktur-studio-br
 uu/
SUMMARY:Wilde Naturkosmetik-Manufaktur: Studio BRUU
DESCRIPTION:Ihr wollt eure Festivalsaison so nachhaltig wie möglich gestal
 ten? Dann ist der Festival Workshop im Studio Bru genau das Richtige für 
 euch. Hier könnt ihr erfahren\, welcher Körperschmuck\, welche Cremes un
 d welche Pflegeprodukte ihr nachhaltig herstellen könnt.\n\nHier erfahrt 
 ihr mehr.
ATTACH;FMTTYPE=image/jpeg:https://pulsleipzig.de/wp-content/uploads/2024/0
 2/Studio-Bruu-kreative.jpg
CATEGORIES:Kunst &amp; Kreatives
END:VEVENT
BEGIN:VTIMEZONE
TZID:Europe/Berlin
X-LIC-LOCATION:Europe/Berlin
BEGIN:DAYLIGHT
DTSTART:20260329T030000
TZOFFSETFROM:+0100
TZOFFSETTO:+0200
TZNAME:CEST
END:DAYLIGHT
END:VTIMEZONE
END:VCALENDAR