BEGIN:VCALENDAR
VERSION:2.0
PRODID:-//wp-events-plugin.com//7.2.3.1//EN
TZID:Europe/Berlin
X-WR-TIMEZONE:Europe/Berlin
BEGIN:VEVENT
UID:9410@pulsleipzig.de
DTSTART;TZID=Europe/Berlin:20260417T170000
DTEND;TZID=Europe/Berlin:20260417T200000
DTSTAMP:20260414T143925Z
URL:https://pulsleipzig.de/events/workshop-1-kirschblueten-mal-drei-lesen-
 schneiden-faerben-weltoffen-e-v/
SUMMARY:Workshop 1: Kirschblüten mal Drei - Lesen\, Schneiden\, Färben: W
 eltOffen e.V.
DESCRIPTION:Im WeltOffen e.V. dreht sich alles um die japanische Kirschblü
 te – kreativ\, poetisch und gemeinschaftlich. Beim Workshop verbinden si
 ch Lesen\, Schneiden und Färben zu einem besonderen DIY-Erlebnis.\n Du ge
 staltest eigene Kunstwerke und tauchst in kreative Techniken ein.\n Perfek
 t für alle\, die Lust auf Handarbeit und Inspiration haben.\n Ein Abend v
 oller Austausch und Frühlingsgefühle.\n Kreativität trifft Kultur.\n\nH
 ier erfahrt ihr mehr.
ATTACH;FMTTYPE=image/jpeg:https://pulsleipzig.de/wp-content/uploads/2026/0
 4/Workshop-1-Onigiri-zum-hoeren-und-Schmecken-WeltOffen-e.V-1.jpg
CATEGORIES:Freizeit
LOCATION:https://maps.app.goo.gl/wrYvRLQZDacSvc699
END:VEVENT
BEGIN:VTIMEZONE
TZID:Europe/Berlin
X-LIC-LOCATION:Europe/Berlin
BEGIN:DAYLIGHT
DTSTART:20260329T030000
TZOFFSETFROM:+0100
TZOFFSETTO:+0200
TZNAME:CEST
END:DAYLIGHT
END:VTIMEZONE
END:VCALENDAR