BEGIN:VCALENDAR
VERSION:2.0
PRODID:-//wp-events-plugin.com//7.2.3.1//EN
TZID:Europe/Berlin
X-WR-TIMEZONE:Europe/Berlin
BEGIN:VEVENT
UID:8859@pulsleipzig.de
DTSTART;TZID=Europe/Berlin:20260303T200000
DTEND;TZID=Europe/Berlin:20260303T220000
DTSTAMP:20260227T142725Z
URL:https://pulsleipzig.de/events/yin-yin-ut-connewitz-2/
SUMMARY:Yïn Yïn: UT Connewitz
DESCRIPTION:ANIKA bringt ihren düsteren\, elektronisch geprägten Sound in
 s UT Connewitz. Zwischen Post-Punk\, Wave und experimentellen Elementen en
 tsteht ein intensives Live-Erlebnis. Ihre markante Stimme und minimalistis
 che Arrangements schaffen eine besondere Atmosphäre. Ein Konzert für Fan
 s anspruchsvoller Indie-Sounds.\n\nHier erfahrt ihr mehr
ATTACH;FMTTYPE=image/jpeg:https://pulsleipzig.de/wp-content/uploads/2023/0
 3/UT-Connewitz-Bar.jpg
CATEGORIES:Musik
END:VEVENT
BEGIN:VTIMEZONE
TZID:Europe/Berlin
X-LIC-LOCATION:Europe/Berlin
BEGIN:STANDARD
DTSTART:20251026T020000
TZOFFSETFROM:+0200
TZOFFSETTO:+0100
TZNAME:CET
END:STANDARD
END:VTIMEZONE
END:VCALENDAR